BEGIN:VCALENDAR
VERSION:2.0
PRODID:-//Justplay Events - ECPv6.15.20//NONSGML v1.0//EN
CALSCALE:GREGORIAN
METHOD:PUBLISH
X-WR-CALNAME:Justplay Events
X-ORIGINAL-URL:https://justplay.events
X-WR-CALDESC:Events for Justplay Events
REFRESH-INTERVAL;VALUE=DURATION:PT1H
X-Robots-Tag:noindex
X-PUBLISHED-TTL:PT1H
BEGIN:VTIMEZONE
TZID:UTC
BEGIN:STANDARD
TZOFFSETFROM:+0000
TZOFFSETTO:+0000
TZNAME:UTC
DTSTART:20220101T000000
END:STANDARD
END:VTIMEZONE
BEGIN:VEVENT
DTSTART;TZID=UTC:20260321T100000
DTEND;TZID=UTC:20260322T190000
DTSTAMP:20260423T121308
CREATED:20251130T132940Z
LAST-MODIFIED:20251130T134124Z
UID:6097-1774087200-1774206000@justplay.events
SUMMARY:Mirkwood Mayhem: Stew The Coneys! (21/03/26) GBHL90
DESCRIPTION:Welcome all back to Mirkwood Mayhem! \nThis event will be a 3 round tournament\, with swiss pairing. \nMore information about the rules in use can be found our event pack\, found here \nList Submission can be found here \nSchedule for the event: \n10:30 – Doors open for registration.\n11:00 – Round 1 start.\n13:15 – Round 1 ends. Lunch break & painting judging.\n14:00 – Round 2 start.\n16:15 – Round 2 ends.\n16:30 – Round 3 start.\n18:45 – Round 3 ends. Winners announced and prizes!
URL:https://justplay.events/event/mirkwood-mayhem-stew-the-coneys-21-03-26-gbhl90/
LOCATION:JustPlay Events\, 1st Floor Beetham House\, LIVERPOOL\, Merseyside\, L2 2SB
CATEGORIES:MESBG
ATTACH;FMTTYPE=image/png:https://justplay.events/wp-content/uploads/2025/11/2.png
END:VEVENT
BEGIN:VEVENT
DTSTART;TZID=UTC:20260110T100000
DTEND;TZID=UTC:20260110T190000
DTSTAMP:20260423T121308
CREATED:20251130T132409Z
LAST-MODIFIED:20251130T133551Z
UID:6091-1768039200-1768071600@justplay.events
SUMMARY:Mirkwood Mayhem: The Last March of the Ents (10/01/26) GBHL90
DESCRIPTION:Welcome all back to Mirkwood Mayhem! \nThis event will be a 3 round tournament\, with swiss pairing. \nMore information about the rules in use can be found our event pack\, found here \nList Submission can be found here \nSchedule for the event: \n10:30 – Doors open for registration.\n11:00 – Round 1 start.\n13:15 – Round 1 ends. Lunch break & painting judging.\n14:00 – Round 2 start.\n16:15 – Round 2 ends.\n16:30 – Round 3 start.\n18:45 – Round 3 ends. Winners announced and prizes!
URL:https://justplay.events/event/mirkwood-mayhem-the-last-march-of-the-ents-10-01-26-gbhl90/
LOCATION:JustPlay Events\, 1st Floor Beetham House\, LIVERPOOL\, Merseyside\, L2 2SB
CATEGORIES:MESBG
ATTACH;FMTTYPE=image/png:https://justplay.events/wp-content/uploads/2025/11/1.png
END:VEVENT
BEGIN:VEVENT
DTSTART;TZID=UTC:20250517T100000
DTEND;TZID=UTC:20250517T190000
DTSTAMP:20260423T121308
CREATED:20250320T134612Z
LAST-MODIFIED:20250327T110421Z
UID:4850-1747476000-1747508400@justplay.events
SUMMARY:Mirkwood Mayhem: Claim the Precious 17/05/25 GBHL90
DESCRIPTION:Welcome all back to Mirkwood Mayhem! \nThis event will be a 3 round tournament\, with swiss pairing. \nMore information about the rules in use can be found in the event pack HERE! mesbg v2 Justplay \nList Submission can be found here \nSchedule for the event: \n10:30 – Doors open for registration.\n11:00 – Round 1 start.\n13:15 – Round 1 ends. Lunch break & painting judging.\n14:00 – Round 2 start.\n16:15 – Round 2 ends.\n16:30 – Round 3 start.\n18:45 – Round 3 ends. Winners announced and prizes!
URL:https://justplay.events/event/mirkwood-mayhem-claim-the-precious-17-05-25-gbhl90/
LOCATION:JustPlay Events\, 1st Floor Beetham House\, LIVERPOOL\, Merseyside\, L2 2SB
CATEGORIES:MESBG
ATTACH;FMTTYPE=image/png:https://justplay.events/wp-content/uploads/2025/03/Q2-10th-Ed-2024-9.png
END:VEVENT
BEGIN:VEVENT
DTSTART;TZID=UTC:20250208T103000
DTEND;TZID=UTC:20250208T190000
DTSTAMP:20260423T121308
CREATED:20250104T190126Z
LAST-MODIFIED:20250121T132819Z
UID:4445-1739010600-1739041200@justplay.events
SUMMARY:Mirkwood Mayhem: Mordor on the March 08/02/25 GBHL90
DESCRIPTION:Welcome all back to Mirkwood Mayhem! \nThis event will be a 3 round tournament\, with swiss pairing. \nMore information about the rules in use can be found in the event pack here mesbg v1 Justplay (1) \nList Submission can be found here \nSchedule for the event: \n10:30 – Doors open for registration.\n11:00 – Round 1 start.\n13:15 – Round 1 ends. Lunch break & painting judging.\n14:00 – Round 2 start.\n16:15 – Round 2 ends.\n16:30 – Round 3 start.\n18:45 – Round 3 ends. Winners announced and prizes!
URL:https://justplay.events/event/mirkwood-mayhem-mordor-on-the-march-08-02-25-gbhl90/
LOCATION:JustPlay Events\, 1st Floor Beetham House\, LIVERPOOL\, Merseyside\, L2 2SB
CATEGORIES:MESBG
ATTACH;FMTTYPE=image/png:https://justplay.events/wp-content/uploads/2025/01/Q2-10th-Ed-2024-5.png
END:VEVENT
BEGIN:VEVENT
DTSTART;TZID=UTC:20241102T100000
DTEND;TZID=UTC:20241102T190000
DTSTAMP:20260423T121308
CREATED:20240708T190933Z
LAST-MODIFIED:20240708T191539Z
UID:3548-1730541600-1730574000@justplay.events
SUMMARY:Mirkwood Mayhem: The Wilderland Returns 02/11/24 GBHL
DESCRIPTION:Welcome all back to Mirkwood Mayhem! \nThis event will be a 3 round tournament\, with swiss pairing. \nMore information about the rules in use can be found in the event pack HERE \nList Submission can be found HERE \nSchedule for the event: \n10:30 – Doors open for registration.\n11:00 – Round 1 start.\n13:15 – Round 1 ends. Lunch break & painting judging.\n14:00 – Round 2 start.\n16:15 – Round 2 ends.\n16:30 – Round 3 start.\n18:45 – Round 3 ends. Winners announced and prizes!
URL:https://justplay.events/event/mirkwood-mayhem-the-wilderland-returns-02-11-24-gbhl/
LOCATION:JustPlay Events\, 1st Floor Beetham House\, LIVERPOOL\, Merseyside\, L2 2SB
CATEGORIES:MESBG
ATTACH;FMTTYPE=image/png:https://justplay.events/wp-content/uploads/2024/07/Q2-10th-Ed-2024-3.png
END:VEVENT
BEGIN:VEVENT
DTSTART;TZID=UTC:20240831T100000
DTEND;TZID=UTC:20240831T190000
DTSTAMP:20260423T121308
CREATED:20240708T185959Z
LAST-MODIFIED:20240708T191616Z
UID:3543-1725098400-1725130800@justplay.events
SUMMARY:Mirkwood Mayhem: The Light of Valinor 31/08/24 GBHL
DESCRIPTION:Welcome all back to Mirkwood Mayhem! \nThis event will be a 3 round tournament\, with swiss pairing. \nMore information about the rules in use can be found in the event pack HERE \nList Submission can be found HERE \nSchedule for the event: \n10:30 – Doors open for registration.\n11:00 – Round 1 start.\n13:15 – Round 1 ends. Lunch break & painting judging.\n14:00 – Round 2 start.\n16:15 – Round 2 ends.\n16:30 – Round 3 start.\n18:45 – Round 3 ends. Winners announced and prizes!
URL:https://justplay.events/event/mirkwood-mayhem-the-light-of-valinor-31-08-24/
LOCATION:JustPlay Events\, 1st Floor Beetham House\, LIVERPOOL\, Merseyside\, L2 2SB
CATEGORIES:MESBG
ATTACH;FMTTYPE=image/png:https://justplay.events/wp-content/uploads/2024/07/Q2-10th-Ed-2024-4.png
END:VEVENT
BEGIN:VEVENT
DTSTART;TZID=UTC:20240602T100000
DTEND;TZID=UTC:20240602T190000
DTSTAMP:20260423T121308
CREATED:20240328T175012Z
LAST-MODIFIED:20240328T183114Z
UID:2985-1717322400-1717354800@justplay.events
SUMMARY:Mirkwood Mayhem: Darkness Descends 02/06/24 GBHL
DESCRIPTION:Welcome all back to Mirkwood Mayhem! \nThis event will be a 3 round tournament\, with swiss pairing. \nMore information about the rules in use can be found in the event pack HERE \nList Submission can be found HERE \nSchedule for the event: \n10:30 – Doors open for registration.\n11:00 – Round 1 start.\n13:15 – Round 1 ends. Lunch break & painting judging.\n14:00 – Round 2 start.\n16:15 – Round 2 ends.\n16:30 – Round 3 start.\n18:45 – Round 3 ends. Winners announced and prizes!
URL:https://justplay.events/event/mirkwood-mayhem-darkness-descends-02-06-24-gbhl/
LOCATION:JustPlay Events\, 1st Floor Beetham House\, LIVERPOOL\, Merseyside\, L2 2SB
CATEGORIES:MESBG
ATTACH;FMTTYPE=image/png:https://justplay.events/wp-content/uploads/2024/03/280124-Instagram-Post.png
END:VEVENT
BEGIN:VEVENT
DTSTART;TZID=UTC:20240224T100000
DTEND;TZID=UTC:20240224T190000
DTSTAMP:20260423T121308
CREATED:20231125T151129Z
LAST-MODIFIED:20231125T151356Z
UID:2367-1708768800-1708801200@justplay.events
SUMMARY:Mirkwood Mayhem MESBG Event 24/02/24
DESCRIPTION:Welcome all back to Mirkwood Mayhem! \nThis event will be a 3 round tournament\, with swiss pairing. \nMore information about the rules in use can be found in the event pack HERE \nList Submission can be found HERE \nSchedule for the event: \n10:30 – Doors open for registration.\n11:00 – Round 1 start.\n13:15 – Round 1 ends. Lunch break & painting judging.\n14:00 – Round 2 start.\n16:15 – Round 2 ends.\n16:30 – Round 3 start.\n18:45 – Round 3 ends. Winners announced and prizes!
URL:https://justplay.events/event/mirkwood-mayhem-mesbg-event-28-01-24-2/
LOCATION:JustPlay Events\, 1st Floor Beetham House\, LIVERPOOL\, Merseyside\, L2 2SB
CATEGORIES:MESBG
ATTACH;FMTTYPE=image/png:https://justplay.events/wp-content/uploads/2023/11/280124-2.png
END:VEVENT
BEGIN:VEVENT
DTSTART;TZID=UTC:20240128T103000
DTEND;TZID=UTC:20240128T193000
DTSTAMP:20260423T121308
CREATED:20231125T142208Z
LAST-MODIFIED:20231125T142208Z
UID:2362-1706437800-1706470200@justplay.events
SUMMARY:Mirkwood Mayhem MESBG Event 28/01/24
DESCRIPTION:Welcome all back to Mirkwood Mayhem! \nThis event will be a 3 round tournament\, with swiss pairing. \nMore information about the rules in use can be found in the event pack HERE \nList Submission can be found HERE \nSchedule for the event: \n10:30 – Doors open for registration.\n11:00 – Round 1 start.\n13:15 – Round 1 ends. Lunch break & painting judging.\n14:00 – Round 2 start.\n16:15 – Round 2 ends.\n16:30 – Round 3 start.\n18:45 – Round 3 ends. Winners announced and prizes!
URL:https://justplay.events/event/mirkwood-mayhem-mesbg-event-28-01-24/
LOCATION:JustPlay Events\, 1st Floor Beetham House\, LIVERPOOL\, Merseyside\, L2 2SB
CATEGORIES:MESBG
ATTACH;FMTTYPE=image/png:https://justplay.events/wp-content/uploads/2023/11/280124.png
END:VEVENT
BEGIN:VEVENT
DTSTART;TZID=UTC:20231111T103000
DTEND;TZID=UTC:20231111T183000
DTSTAMP:20260423T121308
CREATED:20230825T144707Z
LAST-MODIFIED:20231108T164242Z
UID:1748-1699698600-1699727400@justplay.events
SUMMARY:Mirkwood Mayhem MESBG Event 11/11/23
DESCRIPTION:Welcome all back to our second ever MESBG event! with our first event acting as an introduction for new and experienced players to come together. We have decided to knock the points up to 750 a player to see some of the bigger forces you can bring! This event will be a 3 round tournament\, with swiss pairing. \nMore information about the rules in use can be found in the event pack HERE \nList Submission can be found HERE \nSchedule for the event: \n10:30 – Doors open for registration.\n11:00 – Round 1 start.\n13:15 – Round 1 ends. Lunch break & painting judging.\n14:00 – Round 2 start.\n16:15 – Round 2 ends.\n16:30 – Round 3 start.\n18:45 – Round 3 ends. Winners announced and prizes!
URL:https://justplay.events/event/mirkwood-mayhem-mesbg-event-11-11-23/
LOCATION:JustPlay Events\, 1st Floor Beetham House\, LIVERPOOL\, Merseyside\, L2 2SB
CATEGORIES:MESBG
ATTACH;FMTTYPE=image/png:https://justplay.events/wp-content/uploads/2023/08/Add-a-heading-4.png
END:VEVENT
END:VCALENDAR