BEGIN:VCALENDAR
VERSION:2.0
PRODID:-//Justplay Events - ECPv6.15.20//NONSGML v1.0//EN
CALSCALE:GREGORIAN
METHOD:PUBLISH
X-ORIGINAL-URL:https://justplay.events
X-WR-CALDESC:Events for Justplay Events
REFRESH-INTERVAL;VALUE=DURATION:PT1H
X-Robots-Tag:noindex
X-PUBLISHED-TTL:PT1H
BEGIN:VTIMEZONE
TZID:UTC
BEGIN:STANDARD
TZOFFSETFROM:+0000
TZOFFSETTO:+0000
TZNAME:UTC
DTSTART:20230101T000000
END:STANDARD
END:VTIMEZONE
BEGIN:VEVENT
DTSTART;TZID=UTC:20241201T100000
DTEND;TZID=UTC:20241201T193000
DTSTAMP:20260423T045938
CREATED:20240829T145137Z
LAST-MODIFIED:20240926T105324Z
UID:3835-1733047200-1733081400@justplay.events
SUMMARY:Age of Sigmar: The Justice Series December (01/12/24)
DESCRIPTION:Welcome all players to the return to the Justice Series! Now in Age of Sigmar 4th edition! \nAll core rules for Age of Sigmar are used. Matched Play rules are used. The Battlepack rules from the most recent General’s Handbook will be in play. \nThe latest FAQ will always apply\, regardless of how far in advance of a tournament that FAQ was released. We will use our discretion if this unduly affects a player (e.g. completely invalidating a pre-submitted list) . \nEVENT PACK \nLIST SUBMISSION (Coming Soon) \nSchedule Round Timings\n10:00am Doors open for registration \n10:15am Announcements and first round pairings. \n10:30am Round 1 Begins \n13:15pm Lunch \n13:45pm Round 2 Begins \n16:30pm Round 2 Ends \n16:45pm Round 3 Begins \n19:30pm Awards and Home time!
URL:https://justplay.events/event/age-of-sigmar-the-justice-series-october-01-12-24/
LOCATION:JustPlay Events\, 1st Floor Beetham House\, LIVERPOOL\, Merseyside\, L2 2SB
CATEGORIES:Age of Sigmar
ATTACH;FMTTYPE=image/png:https://justplay.events/wp-content/uploads/2024/08/league-4-1.png
END:VEVENT
END:VCALENDAR